{"text_format":"1","workbook":"xlsx","n_sheets":8,"sheets":["Feuil1","Feuil2","Tableau_de_bord","Module_1","Module_2","Decodage","Etape_2","parametrage"],"not_rendered":{"charts":2,"images":2,"macros":1,"external_links":0,"defined_names":10,"comments":0,"pivot_tables":0},"unopened":[],"bounds":{"document_bytes":16777216,"sheet_cells":100000,"rows_first":2000,"rows_last":500,"rows_between":2000,"halvings":0,"cell_chars":16384,"cell_head_chars":4096},"cells_cut":0,"cells_raw":0,"read":"whole","date_system":"1900"}

{"sheet":"Feuil1","index":0,"n_rows":0,"n_cols":0,"rows_kept":0,"cut":false,"hidden":false,"merged":[]}

{"sheet":"Feuil2","index":1,"n_rows":0,"n_cols":0,"rows_kept":0,"cut":false,"hidden":true,"merged":[]}

{"sheet":"Tableau_de_bord","index":2,"n_rows":22,"n_cols":2,"rows_kept":22,"cut":false,"hidden":false,"merged":[]}
["Département :","قسم : علوم مالية و محاسبة"]
["Filière et spécialité :","تخصص: محاسبة و تدقيق"]
["Président CFD :","د/ فنغور عبدالسلام"]
["Membres CFD :","د/ رحال علي"]
["Membres CFD :","د/ يحياوي نعيمة"]
["Membres CFD :","د/ عبدالصمد نجوى"]
["Membres CFD :","د/ سي محمد لخضر"]
["corr"]
[]
[]
["Membres CFD :","د/ بروال بومدين"]
["Membres CFD :","د/ عيساني عامر"]
["Président du CSD :","د/ خدومة الوردي"]
["Président du CSI :","د/ زموري مسعود"]
["Chef du Département :","د/ لوشن محمد"]
["Directeur adjoint chargé PG & RS :","د/ بوعبيد ميلود"]
["Directeur de l'Institut","د/ هارون الطاهر"]
["Directeur adjoint chargé des RELEX"]
["Modules 1 :","مقياس 1 : محاسبة مالية معمقة"]
["Modules 2 :","مقياس 2 : تدقيق محاسبي"]
["Lieu et date (Etape 1) : "]
["Lieu et date (Etape 2) : ","باتنة في02 نوفمبر2019"]

{"sheet":"Module_1","index":3,"n_rows":47,"n_cols":6,"rows_kept":47,"cut":false,"hidden":false,"merged":[[0,0,0,5]]}
[{"$f":"Tableau_de_bord!B19","v":"مقياس 1 : محاسبة مالية معمقة"}]
[]
["Module_1","Correction_1","Correction_2","Obs.","Correction_3","Note"]
["A50",5,3,{"$f":"IF(ABS(B4-C4)>=3,\"3ème Correction\",\" \")","v":" "},null,{"$f":"IF(ABS(B4-C4)<3,AVERAGE(B4,C4),IF(SKEW(B4,C4,E4)=0,(SUM(B4,C4,E4)-MIN(B4,C4,E4))/2,IF(SKEW(B4,C4,E4)>0,(MIN(B4,C4,E4)+MEDIAN(B4,C4,E4))/2,(MAX(B4,C4,E4)+MEDIAN(B4,C4,E4))/2)))","v":4}]
["A51",4,4.25,{"$f":"IF(ABS(B5-C5)>=3,\"3ème Correction\",\" \")","v":" "},null,{"$f":"IF(ABS(B5-C5)<3,AVERAGE(B5,C5),IF(SKEW(B5,C5,E5)=0,(SUM(B5,C5,E5)-MIN(B5,C5,E5))/2,IF(SKEW(B5,C5,E5)>0,(MIN(B5,C5,E5)+MEDIAN(B5,C5,E5))/2,(MAX(B5,C5,E5)+MEDIAN(B5,C5,E5))/2)))","v":4.125}]
["A52",3,2.25," ",null,2.625]
["A53",6.75,4," ",null,5.375]
["A54",3,3," ",null,3]
["A55",2.5,2.25," ",null,2.375]
["A56",6,5.25," ",null,5.625]
["A57",2.5,2.5," ",null,2.5]
["A58",8,7.25," ",null,7.625]
["A59",2.5,3," ",null,2.75]
["A60",1.5,2," ",null,1.75]
["A61",4.5,4.5,{"$f":"IF(ABS(B15-C15)>=3,\"3ème Correction\",\" \")","v":" "},null,4.5]
["A62",2,2.5," ",null,2.25]
["A63",2.5,3," ",null,2.75]
["A64",3.25,3," ",null,3.125]
["A65",4.5,3," ",null,3.75]
["A66",2,2," ",null,2]
["A67",0.5,3," ",null,1.75]
["A68",1,2.75," ",null,1.875]
["A69",3,4.5," ",null,3.75]
["A70",1.5,1.5," ",null,1.5]
["A71",3.75,4.25," ",null,4]
["A72",6.75,9," ",null,7.875]
["A73",2,2," ",null,2]
["A74",2,2," ",null,2]
["A75",2.75,3.5," ",null,3.125]
["A76",2.5,1," ",null,1.75]
["A77",2.5,5," ",null,3.75]
["A78",2.25,1.5," ",null,1.875]
["A79",2.5,2.5," ",null,2.5]
["A80",0,1," ",null,0.5]
["A81",2,1," ",null,1.5]
["A82",2.5,1.5," ",null,2]
["A83",2,0.5," ",null,1.25]
["A84",9,8," ",null,8.5]
["A85",1.5,1.5," ",null,1.5]
["A86",1,3," ",null,2]
["A87",2,2.5," ",null,2.25]
["A88",1,1.5," ",null,1.25]
["A89",3,1.75," ",null,2.375]
["A90",0.25,1," ",null,0.625]
["A91",1.25,1," ",null,1.125]
["A92",2,2.25," ",null,2.125]
["A93",2,2," ",null,2]

{"sheet":"Module_2","index":4,"n_rows":47,"n_cols":6,"rows_kept":47,"cut":false,"hidden":false,"merged":[[0,0,0,5]]}
[{"$f":"Tableau_de_bord!B20","v":"مقياس 2 : تدقيق محاسبي"}]
[]
["Module_1","Correction_1","Correction_2","Obs.","Correction_3","Note"]
["B01",6,7.5,{"$f":"IF(ABS(B4-C4)>=3,\"3ème Correction\",\" \")","v":" "},null,{"$f":"IF(ABS(B4-C4)<3,AVERAGE(B4,C4),IF(SKEW(B4,C4,E4)=0,(SUM(B4,C4,E4)-MIN(B4,C4,E4))/2,IF(SKEW(B4,C4,E4)>0,(MIN(B4,C4,E4)+MEDIAN(B4,C4,E4))/2,(MAX(B4,C4,E4)+MEDIAN(B4,C4,E4))/2)))","v":6.75}]
["B02",10,9,{"$f":"IF(ABS(B5-C5)>=3,\"3ème Correction\",\" \")","v":" "},null,9.5]
["B03",2.5,10,"3ème Correction",7.75,8.875]
["B04",2.5,5.5,"3ème Correction",2.75,2.625]
["B05",5.5,8.5,"3ème Correction",5,5.25]
["B06",8,9," ",null,8.5]
["B07",3.5,6.5,"3ème Correction",4,3.75]
["B08",10,9.5," ",null,9.75]
["B09",5,8,"3ème Correction",6.25,5.625]
["B10",4.5,3," ",null,3.75]
["B11",3,1.5," ",null,2.25]
["B12",6.5,4.5," ",null,5.5]
["B13",4.5,5," ",null,4.75]
["B14",7,3,"3ème Correction",3,3]
["B15",8,3,"3ème Correction",6,7]
["B16",3.5,1.75," ",null,2.625]
["B17",0.5,2," ",null,1.25]
["B18",5.25,5," ",null,5.125]
["B19",4,10.5,"3ème Correction",10.5,10.5]
["B20",2,4," ",null,3]
["B21",4.75,6," ",null,5.375]
["B22",5.75,2,"3ème Correction",4,4.875]
["B23",3.5,2.5," ",null,3]
["B24",8,6.5," ",null,7.25]
["B25",6.5,5.5," ",null,6]
["B26",5.75,4," ",null,4.875]
["B27",6.25,2.75,"3ème Correction",5,5.625]
["B28",10.75,7.5,"3ème Correction",8.5,8]
["B29",7,6," ",null,6.5]
["B30",7.5,5.5," ",null,6.5]
["B31",null,null," ",null,{"$error":"#DIV/0!"}]
["B32",4,2.25," ",null,3.125]
["B33",6.25,5," ",null,5.625]
["B34",4.5,3," ",null,3.75]
["B35",6.5,5," ",null,5.75]
["B36",9.25,8.5," ",null,8.875]
["B37",7.5,10," ",null,8.75]
["B38",9,7," ",null,8]
["B39",8.5,6," ",null,7.25]
["B40",9,5.5,"3ème Correction",9.25,9.125]
["B41",6.5,3.5,"3ème Correction",7,6.75]
["B42",5.5,3.5," ",null,4.5]
["B43",8.5,3,"3ème Correction",6.5,7.5]
["B44",9,8," ",null,8.5]

{"sheet":"Decodage","index":5,"n_rows":101,"n_cols":14,"rows_kept":101,"cut":false,"hidden":false,"merged":[]}
["N°","Nom ","prénom","Intitulé_Master","Annexe_A_B","Univ_origine","Code_1","Module_1","Code_2","Module_2","Moy","Pour le TRI","Licence","Obs."]
[94,"FATIMA ZOHRA","BOULAHBEL",null,null,null,"A58",{"$f":"IF($G2=\"\",\"غ\",VLOOKUP($G2,Module_1!$A$4:$F$47,6))","v":7.625},"B40",{"$f":"IF($I2=\"\",\"غ\",VLOOKUP($I2,Module_2!$A$4:$F$47,6))","v":9.125},{"$f":"IF(OR(H2=\"غ\",J2=\"غ\"),\"غ\",(H2+J2*3)/4)","v":8.75},{"$f":"IF($K2=\"غ\",0,$K2)","v":8.75},null,"ناجح (ة) "]
[67,"labbaz","mabrouk",null,null,null,"A75",{"$f":"IF($G3=\"\",\"غ\",VLOOKUP($G3,Module_1!$A$4:$F$47,6))","v":3.125},"B19",{"$f":"IF($I3=\"\",\"غ\",VLOOKUP($I3,Module_2!$A$4:$F$47,6))","v":10.5},8.65625,8.65625,null,"ناجح (ة) "]
[61,"ben azouaou","leila",null,null,null,"A61",{"$f":"IF($G4=\"\",\"غ\",VLOOKUP($G4,Module_1!$A$4:$F$47,6))","v":4.5},"B02",{"$f":"IF($I4=\"\",\"غ\",VLOOKUP($I4,Module_2!$A$4:$F$47,6))","v":9.5},8.25,8.25,null,"ناجح (ة) "]
[6,"Berchi","Nardjes",null,null,null,"A87",{"$f":"IF($G5=\"\",\"غ\",VLOOKUP($G5,Module_1!$A$4:$F$47,6))","v":2.25},"B08",{"$f":"IF($I5=\"\",\"غ\",VLOOKUP($I5,Module_2!$A$4:$F$47,6))","v":9.75},7.875,7.875,null,"راسب(ة)"]
[14,"salaouda","khaled",null,null,null,"A53",{"$f":"IF($G6=\"\",\"غ\",VLOOKUP($G6,Module_1!$A$4:$F$47,6))","v":5.375},"B06",{"$f":"IF($I6=\"\",\"غ\",VLOOKUP($I6,Module_2!$A$4:$F$47,6))","v":8.5},7.71875,7.71875,null,"راسب(ة)"]
[86,"saidi","sabah",null,null,null,"A51",{"$f":"IF($G7=\"\",\"غ\",VLOOKUP($G7,Module_1!$A$4:$F$47,6))","v":4.125},"B03",{"$f":"IF($I7=\"\",\"غ\",VLOOKUP($I7,Module_2!$A$4:$F$47,6))","v":8.875},7.6875,7.6875,null,"راسب(ة)"]
[76,"boultiah","salima",null,null,null,"A64",{"$f":"IF($G8=\"\",\"غ\",VLOOKUP($G8,Module_1!$A$4:$F$47,6))","v":3.125},"B36",{"$f":"IF($I8=\"\",\"غ\",VLOOKUP($I8,Module_2!$A$4:$F$47,6))","v":8.875},7.4375,7.4375,null,"راسب(ة)"]
[35,"djemmal","hamza oulid",null,null,null,"A89",{"$f":"IF($G9=\"\",\"غ\",VLOOKUP($G9,Module_1!$A$4:$F$47,6))","v":2.375},"B37",{"$f":"IF($I9=\"\",\"غ\",VLOOKUP($I9,Module_2!$A$4:$F$47,6))","v":8.75},7.15625,7.15625,null,"راسب(ة)"]
[13,"TLALES","Azouz",null,null,null,"A63",{"$f":"IF($G10=\"\",\"غ\",VLOOKUP($G10,Module_1!$A$4:$F$47,6))","v":2.75},"B44",{"$f":"IF($I10=\"\",\"غ\",VLOOKUP($I10,Module_2!$A$4:$F$47,6))","v":8.5},7.0625,7.0625,null,"راسب(ة)"]
[53,"Djaroun","Sorya",null,null,null,"A56",{"$f":"IF($G11=\"\",\"غ\",VLOOKUP($G11,Module_1!$A$4:$F$47,6))","v":5.625},"B24",{"$f":"IF($I11=\"\",\"غ\",VLOOKUP($I11,Module_2!$A$4:$F$47,6))","v":7.25},6.84375,6.84375,null,"راسب(ة)"]
[43,"bouzidi","abdelwahab",null,null,null,"A86",{"$f":"IF($G12=\"\",\"غ\",VLOOKUP($G12,Module_1!$A$4:$F$47,6))","v":2},"B38",{"$f":"IF($I12=\"\",\"غ\",VLOOKUP($I12,Module_2!$A$4:$F$47,6))","v":8},6.5,6.5,null,"راسب(ة)"]
[19,"Guidoum","Aicha",null,null,null,"A93",{"$f":"IF($G13=\"\",\"غ\",VLOOKUP($G13,Module_1!$A$4:$F$47,6))","v":2},"B28",{"$f":"IF($I13=\"\",\"غ\",VLOOKUP($I13,Module_2!$A$4:$F$47,6))","v":8},6.5,6.5,null,"راسب(ة)"]
[45,"ABIDI","IBTISSEM",null,null,null,"A84",{"$f":"IF($G14=\"\",\"غ\",VLOOKUP($G14,Module_1!$A$4:$F$47,6))","v":8.5},"B09",{"$f":"IF($I14=\"\",\"غ\",VLOOKUP($I14,Module_2!$A$4:$F$47,6))","v":5.625},6.34375,6.34375,null,"راسب(ة)"]
[51,"DERRADJI","AMEL NOUR EL HOUDA",null,null,null,"A66",{"$f":"IF($G15=\"\",\"غ\",VLOOKUP($G15,Module_1!$A$4:$F$47,6))","v":2},"B43",{"$f":"IF($I15=\"\",\"غ\",VLOOKUP($I15,Module_2!$A$4:$F$47,6))","v":7.5},6.125,6.125,null,"راسب(ة)"]
[60,"Sadoun","Moussa",null,null,null,"A59",{"$f":"IF($G16=\"\",\"غ\",VLOOKUP($G16,Module_1!$A$4:$F$47,6))","v":2.75},"B39",{"$f":"IF($I16=\"\",\"غ\",VLOOKUP($I16,Module_2!$A$4:$F$47,6))","v":7.25},6.125,6.125,null,"راسب(ة)"]
[33,"guerziz","meriem",null,null,null,"A72",{"$f":"IF($G17=\"\",\"غ\",VLOOKUP($G17,Module_1!$A$4:$F$47,6))","v":7.875},"B21",{"$f":"IF($I17=\"\",\"غ\",VLOOKUP($I17,Module_2!$A$4:$F$47,6))","v":5.375},6,6,null,"راسب(ة)"]
[31,"ARIOUA","MOHAMED",null,null,null,"A92",{"$f":"IF($G18=\"\",\"غ\",VLOOKUP($G18,Module_1!$A$4:$F$47,6))","v":2.125},"B15",{"$f":"IF($I18=\"\",\"غ\",VLOOKUP($I18,Module_2!$A$4:$F$47,6))","v":7},5.78125,5.78125,null,"راسب(ة)"]
[92,"TALEB","ISSAM",null,null,null,"A55",{"$f":"IF($G19=\"\",\"غ\",VLOOKUP($G19,Module_1!$A$4:$F$47,6))","v":2.375},"B01",{"$f":"IF($I19=\"\",\"غ\",VLOOKUP($I19,Module_2!$A$4:$F$47,6))","v":6.75},5.65625,5.65625,null,"راسب(ة)"]
[73,"LITIM","IKRAM",null,null,null,"A62",{"$f":"IF($G20=\"\",\"غ\",VLOOKUP($G20,Module_1!$A$4:$F$47,6))","v":2.25},"B41",{"$f":"IF($I20=\"\",\"غ\",VLOOKUP($I20,Module_2!$A$4:$F$47,6))","v":6.75},5.625,5.625,null,"راسب(ة)"]
[5,"bouchouk","noura",null,null,null,"A73",{"$f":"IF($G21=\"\",\"غ\",VLOOKUP($G21,Module_1!$A$4:$F$47,6))","v":2},"B30",{"$f":"IF($I21=\"\",\"غ\",VLOOKUP($I21,Module_2!$A$4:$F$47,6))","v":6.5},5.375,5.375,null,"راسب(ة)"]
[58,"guemida","assia",null,null,null,"A60",{"$f":"IF($G22=\"\",\"غ\",VLOOKUP($G22,Module_1!$A$4:$F$47,6))","v":1.75},"B29",{"$f":"IF($I22=\"\",\"غ\",VLOOKUP($I22,Module_2!$A$4:$F$47,6))","v":6.5},5.3125,5.3125,null,"راسب(ة)"]
[38,"guerfi","ilyes",null,null,null,"A50",{"$f":"IF($G23=\"\",\"غ\",VLOOKUP($G23,Module_1!$A$4:$F$47,6))","v":4},"B35",{"$f":"IF($I23=\"\",\"غ\",VLOOKUP($I23,Module_2!$A$4:$F$47,6))","v":5.75},5.3125,5.3125,null,"راسب(ة)"]
[10,"meddour","imen",null,null,null,"A71",{"$f":"IF($G24=\"\",\"غ\",VLOOKUP($G24,Module_1!$A$4:$F$47,6))","v":4},"B27",{"$f":"IF($I24=\"\",\"غ\",VLOOKUP($I24,Module_2!$A$4:$F$47,6))","v":5.625},5.21875,5.21875,null,"راسب(ة)"]
[78,"YAHIAOUI","Asma",null,null,null,"A79",{"$f":"IF($G25=\"\",\"غ\",VLOOKUP($G25,Module_1!$A$4:$F$47,6))","v":2.5},"B25",{"$f":"IF($I25=\"\",\"غ\",VLOOKUP($I25,Module_2!$A$4:$F$47,6))","v":6},5.125,5.125,null,"راسب(ة)"]
[37,"bouaziz ","mouldia  ",null,null,null,"A77",{"$f":"IF($G26=\"\",\"غ\",VLOOKUP($G26,Module_1!$A$4:$F$47,6))","v":3.75},"B05",{"$f":"IF($I26=\"\",\"غ\",VLOOKUP($I26,Module_2!$A$4:$F$47,6))","v":5.25},4.875,4.875,null,"راسب(ة)"]
[77,"bassaid","hafied",null,null,null,"A74",{"$f":"IF($G27=\"\",\"غ\",VLOOKUP($G27,Module_1!$A$4:$F$47,6))","v":2},"B12",{"$f":"IF($I27=\"\",\"غ\",VLOOKUP($I27,Module_2!$A$4:$F$47,6))","v":5.5},4.625,4.625,null,"راسب(ة)"]
[95,"AROUL","Turkia",null,null,null,"A90",{"$f":"IF($G28=\"\",\"غ\",VLOOKUP($G28,Module_1!$A$4:$F$47,6))","v":0.625},"B33",{"$f":"IF($I28=\"\",\"غ\",VLOOKUP($I28,Module_2!$A$4:$F$47,6))","v":5.625},4.375,4.375,null,"راسب(ة)"]
[88,"saadi","kenza",null,null,null,"A65",{"$f":"IF($G29=\"\",\"غ\",VLOOKUP($G29,Module_1!$A$4:$F$47,6))","v":3.75},"B42",{"$f":"IF($I29=\"\",\"غ\",VLOOKUP($I29,Module_2!$A$4:$F$47,6))","v":4.5},4.3125,4.3125,null,"راسب(ة)"]
[91,"Bellakh","Sihem",null,null,null,"A67",{"$f":"IF($G30=\"\",\"غ\",VLOOKUP($G30,Module_1!$A$4:$F$47,6))","v":1.75},"B18",{"$f":"IF($I30=\"\",\"غ\",VLOOKUP($I30,Module_2!$A$4:$F$47,6))","v":5.125},4.28125,4.28125,null,"راسب(ة)"]
[27,"zeyneb","tamrabet",null,null,null,"A68",{"$f":"IF($G31=\"\",\"غ\",VLOOKUP($G31,Module_1!$A$4:$F$47,6))","v":1.875},"B26",{"$f":"IF($I31=\"\",\"غ\",VLOOKUP($I31,Module_2!$A$4:$F$47,6))","v":4.875},4.125,4.125,null,"راسب(ة)"]
[57,"kebab","ghania",null,null,null,"A85",{"$f":"IF($G32=\"\",\"غ\",VLOOKUP($G32,Module_1!$A$4:$F$47,6))","v":1.5},"B22",{"$f":"IF($I32=\"\",\"غ\",VLOOKUP($I32,Module_2!$A$4:$F$47,6))","v":4.875},4.03125,4.03125,null,"راسب(ة)"]
[72,"maalem","abir",null,null,null,"A88",{"$f":"IF($G33=\"\",\"غ\",VLOOKUP($G33,Module_1!$A$4:$F$47,6))","v":1.25},"B13",{"$f":"IF($I33=\"\",\"غ\",VLOOKUP($I33,Module_2!$A$4:$F$47,6))","v":4.75},3.875,3.875,null,"راسب(ة)"]
[71,"djelal","lamis",null,null,null,"A69",{"$f":"IF($G34=\"\",\"غ\",VLOOKUP($G34,Module_1!$A$4:$F$47,6))","v":3.75},"B10",{"$f":"IF($I34=\"\",\"غ\",VLOOKUP($I34,Module_2!$A$4:$F$47,6))","v":3.75},{"$f":"IF(OR(H34=\"غ\",J34=\"غ\"),\"غ\",(H34+J34*3)/4)","v":3.75},{"$f":"IF($K34=\"غ\",0,$K34)","v":3.75},null,"راسب(ة)"]
[42,"DERDOUBA","ABDELHAK",null,null,null,"A52",{"$f":"IF($G35=\"\",\"غ\",VLOOKUP($G35,Module_1!$A$4:$F$47,6))","v":2.625},"B07",{"$f":"IF($I35=\"\",\"غ\",VLOOKUP($I35,Module_2!$A$4:$F$47,6))","v":3.75},3.46875,3.46875,null,"راسب(ة)"]
[84,"bouradi","maroua",null,null,null,"A78",{"$f":"IF($G36=\"\",\"غ\",VLOOKUP($G36,Module_1!$A$4:$F$47,6))","v":1.875},"B34",{"$f":"IF($I36=\"\",\"غ\",VLOOKUP($I36,Module_2!$A$4:$F$47,6))","v":3.75},3.28125,3.28125,null,"راسب(ة)"]
[9,"ATHAMNIA","Abd El Azize",null,null,null,"A57",{"$f":"IF($G37=\"\",\"غ\",VLOOKUP($G37,Module_1!$A$4:$F$47,6))","v":2.5},"B23",{"$f":"IF($I37=\"\",\"غ\",VLOOKUP($I37,Module_2!$A$4:$F$47,6))","v":3},2.875,2.875,null,"راسب(ة)"]
[80,"BEKIRI","HADJER",null,null,null,"A54",{"$f":"IF($G38=\"\",\"غ\",VLOOKUP($G38,Module_1!$A$4:$F$47,6))","v":3},"B04",{"$f":"IF($I38=\"\",\"غ\",VLOOKUP($I38,Module_2!$A$4:$F$47,6))","v":2.625},2.71875,2.71875,null,"راسب(ة)"]
[81,"BENABBES","RAYENE",null,null,null,"A91",{"$f":"IF($G39=\"\",\"غ\",VLOOKUP($G39,Module_1!$A$4:$F$47,6))","v":1.125},"B32",{"$f":"IF($I39=\"\",\"غ\",VLOOKUP($I39,Module_2!$A$4:$F$47,6))","v":3.125},2.625,2.625,null,"راسب(ة)"]
[55,"BOUDJELAL","MOUNA",null,null,null,"A70",{"$f":"IF($G40=\"\",\"غ\",VLOOKUP($G40,Module_1!$A$4:$F$47,6))","v":1.5},"B14",{"$f":"IF($I40=\"\",\"غ\",VLOOKUP($I40,Module_2!$A$4:$F$47,6))","v":3},2.625,2.625,null,"راسب(ة)"]
[18,"kharfallah cherif","naima",null,null,null,"A81",{"$f":"IF($G41=\"\",\"غ\",VLOOKUP($G41,Module_1!$A$4:$F$47,6))","v":1.5},"B20",{"$f":"IF($I41=\"\",\"غ\",VLOOKUP($I41,Module_2!$A$4:$F$47,6))","v":3},2.625,2.625,null,"راسب(ة)"]
[32,"bedda","rokn eddine",null,null,null,"A82",{"$f":"IF($G42=\"\",\"غ\",VLOOKUP($G42,Module_1!$A$4:$F$47,6))","v":2},"B16",{"$f":"IF($I42=\"\",\"غ\",VLOOKUP($I42,Module_2!$A$4:$F$47,6))","v":2.625},2.46875,2.46875,null,"راسب(ة)"]
[39,"BOUTAMAMINE ","MEBARKA",null,null,null,"A83",{"$f":"IF($G43=\"\",\"غ\",VLOOKUP($G43,Module_1!$A$4:$F$47,6))","v":1.25},"B11",{"$f":"IF($I43=\"\",\"غ\",VLOOKUP($I43,Module_2!$A$4:$F$47,6))","v":2.25},2,2,null,"راسب(ة)"]
[12,"touatit","nesma",null,null,null,"A80",{"$f":"IF($G44=\"\",\"غ\",VLOOKUP($G44,Module_1!$A$4:$F$47,6))","v":0.5},"B17",{"$f":"IF($I44=\"\",\"غ\",VLOOKUP($I44,Module_2!$A$4:$F$47,6))","v":1.25},1.0625,1.0625,null,"راسب(ة)"]
[16,"adjmi","zineb",null,null,null,null,{"$f":"IF($G45=\"\",\"غ\",VLOOKUP($G45,Module_1!$A$4:$F$47,6))","v":"غ"},null,{"$f":"IF($I45=\"\",\"غ\",VLOOKUP($I45,Module_2!$A$4:$F$47,6))","v":"غ"},"غ",0,null,"راسب(ة)"]
[83,"ARAB","Amira",null,null,null,null,{"$f":"IF($G46=\"\",\"غ\",VLOOKUP($G46,Module_1!$A$4:$F$47,6))","v":"غ"},null,{"$f":"IF($I46=\"\",\"غ\",VLOOKUP($I46,Module_2!$A$4:$F$47,6))","v":"غ"},"غ",0,null,"راسب(ة)"]
[49,"ATTALLAH","YAKOUB",null,null,null,null,{"$f":"IF($G47=\"\",\"غ\",VLOOKUP($G47,Module_1!$A$4:$F$47,6))","v":"غ"},null,{"$f":"IF($I47=\"\",\"غ\",VLOOKUP($I47,Module_2!$A$4:$F$47,6))","v":"غ"},"غ",0,null,"راسب(ة)"]
[90,"Bech","Abderrahmane",null,null,null,null,{"$f":"IF($G48=\"\",\"غ\",VLOOKUP($G48,Module_1!$A$4:$F$47,6))","v":"غ"},null,{"$f":"IF($I48=\"\",\"غ\",VLOOKUP($I48,Module_2!$A$4:$F$47,6))","v":"غ"},"غ",0,null,"راسب(ة)"]
[85,"Belkacemi","Mounira",null,null,null,null,{"$f":"IF($G49=\"\",\"غ\",VLOOKUP($G49,Module_1!$A$4:$F$47,6))","v":"غ"},null,{"$f":"IF($I49=\"\",\"غ\",VLOOKUP($I49,Module_2!$A$4:$F$47,6))","v":"غ"},"غ",0,null,"راسب(ة)"]
[28,"belkhiri","aida",null,null,null,null,{"$f":"IF($G50=\"\",\"غ\",VLOOKUP($G50,Module_1!$A$4:$F$47,6))","v":"غ"},null,{"$f":"IF($I50=\"\",\"غ\",VLOOKUP($I50,Module_2!$A$4:$F$47,6))","v":"غ"},"غ",0,null,"راسب(ة)"]
[30,"belloum","imene",null,null,null,null,{"$f":"IF($G51=\"\",\"غ\",VLOOKUP($G51,Module_1!$A$4:$F$47,6))","v":"غ"},null,{"$f":"IF($I51=\"\",\"غ\",VLOOKUP($I51,Module_2!$A$4:$F$47,6))","v":"غ"},"غ",0,null,"راسب(ة)"]
[65,"Belloum","Nadir",null,null,null,null,{"$f":"IF($G52=\"\",\"غ\",VLOOKUP($G52,Module_1!$A$4:$F$47,6))","v":"غ"},null,{"$f":"IF($I52=\"\",\"غ\",VLOOKUP($I52,Module_2!$A$4:$F$47,6))","v":"غ"},"غ",0,null,"راسب(ة)"]
[70,"BENKORICHI","ZAKARIA",null,null,null,null,{"$f":"IF($G53=\"\",\"غ\",VLOOKUP($G53,Module_1!$A$4:$F$47,6))","v":"غ"},null,{"$f":"IF($I53=\"\",\"غ\",VLOOKUP($I53,Module_2!$A$4:$F$47,6))","v":"غ"},"غ",0,null,"راسب(ة)"]
[34,"BENTALLAH","Athmane",null,null,null,null,{"$f":"IF($G54=\"\",\"غ\",VLOOKUP($G54,Module_1!$A$4:$F$47,6))","v":"غ"},null,{"$f":"IF($I54=\"\",\"غ\",VLOOKUP($I54,Module_2!$A$4:$F$47,6))","v":"غ"},"غ",0,null,"راسب(ة)"]
[40,"Boubaya","Nassira",null,null,null,null,{"$f":"IF($G55=\"\",\"غ\",VLOOKUP($G55,Module_1!$A$4:$F$47,6))","v":"غ"},null,{"$f":"IF($I55=\"\",\"غ\",VLOOKUP($I55,Module_2!$A$4:$F$47,6))","v":"غ"},"غ",0,null,"راسب(ة)"]
[93,"bouchama","sadek",null,null,null,null,{"$f":"IF($G56=\"\",\"غ\",VLOOKUP($G56,Module_1!$A$4:$F$47,6))","v":"غ"},null,{"$f":"IF($I56=\"\",\"غ\",VLOOKUP($I56,Module_2!$A$4:$F$47,6))","v":"غ"},"غ",0,null,"راسب(ة)"]
[44,"BOUZEKRI","SADEK",null,null,null,null,{"$f":"IF($G57=\"\",\"غ\",VLOOKUP($G57,Module_1!$A$4:$F$47,6))","v":"غ"},null,{"$f":"IF($I57=\"\",\"غ\",VLOOKUP($I57,Module_2!$A$4:$F$47,6))","v":"غ"},"غ",0,null,"راسب(ة)"]
[75,"CHABANI","MEHDI",null,null,null,null,{"$f":"IF($G58=\"\",\"غ\",VLOOKUP($G58,Module_1!$A$4:$F$47,6))","v":"غ"},null,{"$f":"IF($I58=\"\",\"غ\",VLOOKUP($I58,Module_2!$A$4:$F$47,6))","v":"غ"},"غ",0,null,"راسب(ة)"]
[68,"chebili","khalissa",null,null,null,null,{"$f":"IF($G59=\"\",\"غ\",VLOOKUP($G59,Module_1!$A$4:$F$47,6))","v":"غ"},null,{"$f":"IF($I59=\"\",\"غ\",VLOOKUP($I59,Module_2!$A$4:$F$47,6))","v":"غ"},"غ",0,null,"راسب(ة)"]
[17,"chekhab","sara",null,null,null,"A76",{"$f":"IF($G60=\"\",\"غ\",VLOOKUP($G60,Module_1!$A$4:$F$47,6))","v":1.75},null,{"$f":"IF($I60=\"\",\"غ\",VLOOKUP($I60,Module_2!$A$4:$F$47,6))","v":"غ"},"غ",0,null,"راسب(ة)"]
[69,"cheriti","ines lilia",null,null,null,null,{"$f":"IF($G61=\"\",\"غ\",VLOOKUP($G61,Module_1!$A$4:$F$47,6))","v":"غ"},null,{"$f":"IF($I61=\"\",\"غ\",VLOOKUP($I61,Module_2!$A$4:$F$47,6))","v":"غ"},"غ",0,null,"راسب(ة)"]
[29,"DJEBAILI","Nadhira",null,null,null,null,{"$f":"IF($G62=\"\",\"غ\",VLOOKUP($G62,Module_1!$A$4:$F$47,6))","v":"غ"},null,{"$f":"IF($I62=\"\",\"غ\",VLOOKUP($I62,Module_2!$A$4:$F$47,6))","v":"غ"},"غ",0,null,"راسب(ة)"]
[8,"djefaflia","roumaissa",null,null,null,null,{"$f":"IF($G63=\"\",\"غ\",VLOOKUP($G63,Module_1!$A$4:$F$47,6))","v":"غ"},null,{"$f":"IF($I63=\"\",\"غ\",VLOOKUP($I63,Module_2!$A$4:$F$47,6))","v":"غ"},"غ",0,null,"راسب(ة)"]
[66,"FILALI","HAMZA",null,null,null,null,{"$f":"IF($G64=\"\",\"غ\",VLOOKUP($G64,Module_1!$A$4:$F$47,6))","v":"غ"},null,{"$f":"IF($I64=\"\",\"غ\",VLOOKUP($I64,Module_2!$A$4:$F$47,6))","v":"غ"},"غ",0,null,"راسب(ة)"]
[62,"GHERIB","HANANE",null,null,null,null,{"$f":"IF($G65=\"\",\"غ\",VLOOKUP($G65,Module_1!$A$4:$F$47,6))","v":"غ"},null,{"$f":"IF($I65=\"\",\"غ\",VLOOKUP($I65,Module_2!$A$4:$F$47,6))","v":"غ"},"غ",0,null,"راسب(ة)"]
[82,"GRINI","AMEL",null,null,null,null,{"$f":"IF($G66=\"\",\"غ\",VLOOKUP($G66,Module_1!$A$4:$F$47,6))","v":"غ"},null,{"$f":"IF($I66=\"\",\"غ\",VLOOKUP($I66,Module_2!$A$4:$F$47,6))","v":"غ"},{"$f":"IF(OR(H66=\"غ\",J66=\"غ\"),\"غ\",(H66+J66*3)/4)","v":"غ"},{"$f":"IF($K66=\"غ\",0,$K66)","v":0},null,"راسب(ة)"]
[63,"khamra","hocine",null,null,null,null,{"$f":"IF($G67=\"\",\"غ\",VLOOKUP($G67,Module_1!$A$4:$F$47,6))","v":"غ"},null,{"$f":"IF($I67=\"\",\"غ\",VLOOKUP($I67,Module_2!$A$4:$F$47,6))","v":"غ"},"غ",0,null,"راسب(ة)"]
[52,"lagraa","nesrine",null,null,null,null,{"$f":"IF($G68=\"\",\"غ\",VLOOKUP($G68,Module_1!$A$4:$F$47,6))","v":"غ"},null,{"$f":"IF($I68=\"\",\"غ\",VLOOKUP($I68,Module_2!$A$4:$F$47,6))","v":"غ"},"غ",0,null,"راسب(ة)"]
[20,"Lahmadi","Akram",null,null,null,null,{"$f":"IF($G69=\"\",\"غ\",VLOOKUP($G69,Module_1!$A$4:$F$47,6))","v":"غ"},null,{"$f":"IF($I69=\"\",\"غ\",VLOOKUP($I69,Module_2!$A$4:$F$47,6))","v":"غ"},"غ",0,null,"راسب(ة)"]
[56,"LATTOUI","Hakim",null,null,null,null,{"$f":"IF($G70=\"\",\"غ\",VLOOKUP($G70,Module_1!$A$4:$F$47,6))","v":"غ"},null,{"$f":"IF($I70=\"\",\"غ\",VLOOKUP($I70,Module_2!$A$4:$F$47,6))","v":"غ"},"غ",0,null,"راسب(ة)"]
[59,"MAALLA","HANANE",null,null,null,null,{"$f":"IF($G71=\"\",\"غ\",VLOOKUP($G71,Module_1!$A$4:$F$47,6))","v":"غ"},null,{"$f":"IF($I71=\"\",\"غ\",VLOOKUP($I71,Module_2!$A$4:$F$47,6))","v":"غ"},"غ",0,null,"راسب(ة)"]
[54,"mahdid","aziez",null,null,null,null,{"$f":"IF($G72=\"\",\"غ\",VLOOKUP($G72,Module_1!$A$4:$F$47,6))","v":"غ"},null,{"$f":"IF($I72=\"\",\"غ\",VLOOKUP($I72,Module_2!$A$4:$F$47,6))","v":"غ"},"غ",0,null,"راسب(ة)"]
[87,"Mahmel","Hassiba",null,null,null,null,{"$f":"IF($G73=\"\",\"غ\",VLOOKUP($G73,Module_1!$A$4:$F$47,6))","v":"غ"},null,{"$f":"IF($I73=\"\",\"غ\",VLOOKUP($I73,Module_2!$A$4:$F$47,6))","v":"غ"},"غ",0,null,"راسب(ة)"]
[41,"MELIZI","HASNA",null,null,null,null,{"$f":"IF($G74=\"\",\"غ\",VLOOKUP($G74,Module_1!$A$4:$F$47,6))","v":"غ"},null,{"$f":"IF($I74=\"\",\"غ\",VLOOKUP($I74,Module_2!$A$4:$F$47,6))","v":"غ"},"غ",0,null,"راسب(ة)"]
[74,"mestour","nadjet",null,null,null,null,{"$f":"IF($G75=\"\",\"غ\",VLOOKUP($G75,Module_1!$A$4:$F$47,6))","v":"غ"},null,{"$f":"IF($I75=\"\",\"غ\",VLOOKUP($I75,Module_2!$A$4:$F$47,6))","v":"غ"},"غ",0,null,"راسب(ة)"]
[89,"midoune","nihad",null,null,null,null,{"$f":"IF($G76=\"\",\"غ\",VLOOKUP($G76,Module_1!$A$4:$F$47,6))","v":"غ"},null,{"$f":"IF($I76=\"\",\"غ\",VLOOKUP($I76,Module_2!$A$4:$F$47,6))","v":"غ"},"غ",0,null,"راسب(ة)"]
[24,"OMRANE","SOUMIA",null,null,null,null,{"$f":"IF($G77=\"\",\"غ\",VLOOKUP($G77,Module_1!$A$4:$F$47,6))","v":"غ"},null,{"$f":"IF($I77=\"\",\"غ\",VLOOKUP($I77,Module_2!$A$4:$F$47,6))","v":"غ"},"غ",0,null,"راسب(ة)"]
[47,"ounis","dellel",null,null,null,null,{"$f":"IF($G78=\"\",\"غ\",VLOOKUP($G78,Module_1!$A$4:$F$47,6))","v":"غ"},null,{"$f":"IF($I78=\"\",\"غ\",VLOOKUP($I78,Module_2!$A$4:$F$47,6))","v":"غ"},"غ",0,null,"راسب(ة)"]
[79,"RAHAL","ISMAHAN",null,null,null,null,{"$f":"IF($G79=\"\",\"غ\",VLOOKUP($G79,Module_1!$A$4:$F$47,6))","v":"غ"},null,{"$f":"IF($I79=\"\",\"غ\",VLOOKUP($I79,Module_2!$A$4:$F$47,6))","v":"غ"},"غ",0,null,"راسب(ة)"]
[64,"RAHIM","Imene",null,null,null,null,{"$f":"IF($G80=\"\",\"غ\",VLOOKUP($G80,Module_1!$A$4:$F$47,6))","v":"غ"},null,{"$f":"IF($I80=\"\",\"غ\",VLOOKUP($I80,Module_2!$A$4:$F$47,6))","v":"غ"},"غ",0,null,"راسب(ة)"]
[23,"saoud","imene ",null,null,null,null,{"$f":"IF($G81=\"\",\"غ\",VLOOKUP($G81,Module_1!$A$4:$F$47,6))","v":"غ"},null,{"$f":"IF($I81=\"\",\"غ\",VLOOKUP($I81,Module_2!$A$4:$F$47,6))","v":"غ"},"غ",0,null,"راسب(ة)"]
[36,"Souilah","Oumeima",null,null,null,null,{"$f":"IF($G82=\"\",\"غ\",VLOOKUP($G82,Module_1!$A$4:$F$47,6))","v":"غ"},null,{"$f":"IF($I82=\"\",\"غ\",VLOOKUP($I82,Module_2!$A$4:$F$47,6))","v":"غ"},"غ",0,null,"راسب(ة)"]
[48,"TEDJANIA","HAMZA",null,null,null,null,{"$f":"IF($G83=\"\",\"غ\",VLOOKUP($G83,Module_1!$A$4:$F$47,6))","v":"غ"},null,{"$f":"IF($I83=\"\",\"غ\",VLOOKUP($I83,Module_2!$A$4:$F$47,6))","v":"غ"},"غ",0,null,"راسب(ة)"]
[46,"ZENNOUR","Abdelaziz",null,null,null,null,{"$f":"IF($G84=\"\",\"غ\",VLOOKUP($G84,Module_1!$A$4:$F$47,6))","v":"غ"},null,{"$f":"IF($I84=\"\",\"غ\",VLOOKUP($I84,Module_2!$A$4:$F$47,6))","v":"غ"},"غ",0,null,"راسب(ة)"]
[50,"ZIANE","FATEH",null,null,null,null,{"$f":"IF($G85=\"\",\"غ\",VLOOKUP($G85,Module_1!$A$4:$F$47,6))","v":"غ"},null,{"$f":"IF($I85=\"\",\"غ\",VLOOKUP($I85,Module_2!$A$4:$F$47,6))","v":"غ"},"غ",0,null,"راسب(ة)"]
[96,null,null,null,null,null,null,{"$f":"IF($G86=\"\",\"غ\",VLOOKUP($G86,Module_1!$A$4:$F$47,6))","v":"غ"},null,{"$f":"IF($I86=\"\",\"غ\",VLOOKUP($I86,Module_2!$A$4:$F$47,6))","v":"غ"},"غ",0,null,"راسب(ة)"]
[97,null,null,null,null,null,null,{"$f":"IF($G87=\"\",\"غ\",VLOOKUP($G87,Module_1!$A$4:$F$47,6))","v":"غ"},null,{"$f":"IF($I87=\"\",\"غ\",VLOOKUP($I87,Module_2!$A$4:$F$47,6))","v":"غ"},"غ",0,null,"راسب(ة)"]
[98,null,null,null,null,null,null,{"$f":"IF($G88=\"\",\"غ\",VLOOKUP($G88,Module_1!$A$4:$F$47,6))","v":"غ"},null,{"$f":"IF($I88=\"\",\"غ\",VLOOKUP($I88,Module_2!$A$4:$F$47,6))","v":"غ"},"غ",0,null,"راسب(ة)"]
[99,null,null,null,null,null,null,{"$f":"IF($G89=\"\",\"غ\",VLOOKUP($G89,Module_1!$A$4:$F$47,6))","v":"غ"},null,{"$f":"IF($I89=\"\",\"غ\",VLOOKUP($I89,Module_2!$A$4:$F$47,6))","v":"غ"},"غ",0,null,"راسب(ة)"]
[100,null,null,null,null,null,null,{"$f":"IF($G90=\"\",\"غ\",VLOOKUP($G90,Module_1!$A$4:$F$47,6))","v":"غ"},null,{"$f":"IF($I90=\"\",\"غ\",VLOOKUP($I90,Module_2!$A$4:$F$47,6))","v":"غ"},"غ",0,null,"راسب(ة)"]
[null,null,null,null,null,null,null,{"$f":"IF($G91=\"\",\"غ\",VLOOKUP($G91,Module_1!$A$4:$F$47,6))","v":"غ"},null,{"$f":"IF($I91=\"\",\"غ\",VLOOKUP($I91,Module_2!$A$4:$F$47,6))","v":"غ"},"غ",0,null,"راسب(ة)"]
[26,null,null,null,null,null,null,{"$f":"IF($G92=\"\",\"غ\",VLOOKUP($G92,Module_1!$A$4:$F$47,6))","v":"غ"},null,{"$f":"IF($I92=\"\",\"غ\",VLOOKUP($I92,Module_2!$A$4:$F$47,6))","v":"غ"},"غ",0,null,"راسب(ة)"]
[4,null,null,null,null,null,null,{"$f":"IF($G93=\"\",\"غ\",VLOOKUP($G93,Module_1!$A$4:$F$47,6))","v":"غ"},null,{"$f":"IF($I93=\"\",\"غ\",VLOOKUP($I93,Module_2!$A$4:$F$47,6))","v":"غ"},"غ",0,null,"راسب(ة)"]
[3,null,null,null,null,null,null,{"$f":"IF($G94=\"\",\"غ\",VLOOKUP($G94,Module_1!$A$4:$F$47,6))","v":"غ"},null,{"$f":"IF($I94=\"\",\"غ\",VLOOKUP($I94,Module_2!$A$4:$F$47,6))","v":"غ"},"غ",0,null,"راسب(ة)"]
[7,null,null,null,null,null,null,{"$f":"IF($G95=\"\",\"غ\",VLOOKUP($G95,Module_1!$A$4:$F$47,6))","v":"غ"},null,{"$f":"IF($I95=\"\",\"غ\",VLOOKUP($I95,Module_2!$A$4:$F$47,6))","v":"غ"},"غ",0,null,"راسب(ة)"]
[15,null,null,null,null,null,null,{"$f":"IF($G96=\"\",\"غ\",VLOOKUP($G96,Module_1!$A$4:$F$47,6))","v":"غ"},null,{"$f":"IF($I96=\"\",\"غ\",VLOOKUP($I96,Module_2!$A$4:$F$47,6))","v":"غ"},"غ",0,null,"راسب(ة)"]
[22,null,null,null,null,null,null,{"$f":"IF($G97=\"\",\"غ\",VLOOKUP($G97,Module_1!$A$4:$F$47,6))","v":"غ"},null,{"$f":"IF($I97=\"\",\"غ\",VLOOKUP($I97,Module_2!$A$4:$F$47,6))","v":"غ"},"غ",0,null,"راسب(ة)"]
[21,null,null,null,null,null,null,{"$f":"IF($G98=\"\",\"غ\",VLOOKUP($G98,Module_1!$A$4:$F$47,6))","v":"غ"},null,{"$f":"IF($I98=\"\",\"غ\",VLOOKUP($I98,Module_2!$A$4:$F$47,6))","v":"غ"},{"$f":"IF(OR(H98=\"غ\",J98=\"غ\"),\"غ\",(H98+J98*3)/4)","v":"غ"},0,null,"راسب(ة)"]
[11,null,null,null,null,null,null,{"$f":"IF($G99=\"\",\"غ\",VLOOKUP($G99,Module_1!$A$4:$F$47,6))","v":"غ"},null,{"$f":"IF($I99=\"\",\"غ\",VLOOKUP($I99,Module_2!$A$4:$F$47,6))","v":"غ"},"غ",0,null,"راسب(ة)"]
[25,null,null,null,null,null,null,{"$f":"IF($G100=\"\",\"غ\",VLOOKUP($G100,Module_1!$A$4:$F$47,6))","v":"غ"},null,{"$f":"IF($I100=\"\",\"غ\",VLOOKUP($I100,Module_2!$A$4:$F$47,6))","v":"غ"},"غ",0,null,"راسب(ة)"]
[2,null,null,null,null,null,null,{"$f":"IF($G101=\"\",\"غ\",VLOOKUP($G101,Module_1!$A$4:$F$47,6))","v":"غ"},null,{"$f":"IF($I101=\"\",\"غ\",VLOOKUP($I101,Module_2!$A$4:$F$47,6))","v":"غ"},"غ",0,null,"راسب(ة)"]

{"sheet":"Etape_2","index":6,"n_rows":145,"n_cols":10,"rows_kept":145,"cut":false,"hidden":false,"merged":[[127,6,127,9],[128,6,128,9],[97,0,97,5],[98,0,98,5],[98,6,98,9],[99,6,99,9],[100,4,100,5],[100,0,100,2],[100,6,100,9],[101,0,101,2],[102,0,102,2],[103,0,103,2],[104,0,104,2],[127,0,127,3],[6,0,6,9],[8,0,8,9],[10,0,11,0],[10,2,11,2],[10,8,11,8],[10,9,11,9],[10,1,11,1],[5,0,5,9],[0,0,0,9],[1,0,1,9],[2,0,2,8],[3,0,3,9],[4,0,4,9],[138,6,138,9],[105,0,105,2],[106,0,106,2],[108,0,108,3],[109,0,109,3],[108,6,108,9],[109,6,109,9],[118,6,118,9],[118,0,118,3],[119,6,119,9],[119,0,119,3],[120,0,120,3],[126,0,126,3],[126,6,126,9],[137,0,137,3],[129,6,129,9]]}
["جامعة الحاج لخضر -باتنة01"]
[{"$f":"Tableau_de_bord!B1","v":"قسم : علوم مالية و محاسبة"}]
[]
["النتائج النهائية للمسابقة الوطنية للدخول إلى السنة الأولى دكتوراه (LMD)"]
[]
[{"$f":"Tableau_de_bord!B2","v":"تخصص: محاسبة و تدقيق"}]
["السنة الجامعية : 2020/2019"]
[]
["النتائج النهائية حسب القرار رقم 547 المورخ في 2016/06/02 - المرحلة النهائية"]
[]
["الترتيب","اللقبـــــــــــ ","الإســـــــــــم","نوع","صنف","الجامعة","مقياس 1","مقياس 2","المعدل","ملاحظات"]
[null,null,null,"الماستر","الترتيب","الأصلية","معامل : 01","معامل : 03"]
[1,{"$f":"Decodage!B2","v":"FATIMA ZOHRA"},{"$f":"Decodage!C2","v":"BOULAHBEL"},{"$f":"Decodage!D2","v":0},{"$f":"Decodage!E2","v":0},{"$f":"Decodage!F2","v":0},{"$f":"Decodage!H2","v":7.625},{"$f":"Decodage!J2","v":9.125},{"$f":"Decodage!K2","v":8.75},{"$f":"Decodage!N2","v":"ناجح (ة) "}]
[2,{"$f":"Decodage!B3","v":"labbaz"},{"$f":"Decodage!C3","v":"mabrouk"},{"$f":"Decodage!D3","v":0},{"$f":"Decodage!E3","v":0},{"$f":"Decodage!F3","v":0},{"$f":"Decodage!H3","v":3.125},{"$f":"Decodage!J3","v":10.5},{"$f":"Decodage!K3","v":8.65625},{"$f":"Decodage!N3","v":"ناجح (ة) "}]
[3,{"$f":"Decodage!B4","v":"ben azouaou"},{"$f":"Decodage!C4","v":"leila"},{"$f":"Decodage!D4","v":0},{"$f":"Decodage!E4","v":0},{"$f":"Decodage!F4","v":0},{"$f":"Decodage!H4","v":4.5},{"$f":"Decodage!J4","v":9.5},{"$f":"Decodage!K4","v":8.25},{"$f":"Decodage!N4","v":"ناجح (ة) "}]
[4,{"$f":"Decodage!B5","v":"Berchi"},{"$f":"Decodage!C5","v":"Nardjes"},{"$f":"Decodage!D5","v":0},{"$f":"Decodage!E5","v":0},{"$f":"Decodage!F5","v":0},{"$f":"Decodage!H5","v":2.25},{"$f":"Decodage!J5","v":9.75},{"$f":"Decodage!K5","v":7.875},{"$f":"Decodage!N5","v":"راسب(ة)"}]
[5,{"$f":"Decodage!B6","v":"salaouda"},{"$f":"Decodage!C6","v":"khaled"},{"$f":"Decodage!D6","v":0},{"$f":"Decodage!E6","v":0},{"$f":"Decodage!F6","v":0},{"$f":"Decodage!H6","v":5.375},{"$f":"Decodage!J6","v":8.5},{"$f":"Decodage!K6","v":7.71875},{"$f":"Decodage!N6","v":"راسب(ة)"}]
[6,{"$f":"Decodage!B7","v":"saidi"},{"$f":"Decodage!C7","v":"sabah"},{"$f":"Decodage!D7","v":0},{"$f":"Decodage!E7","v":0},{"$f":"Decodage!F7","v":0},{"$f":"Decodage!H7","v":4.125},{"$f":"Decodage!J7","v":8.875},{"$f":"Decodage!K7","v":7.6875},{"$f":"Decodage!N7","v":"راسب(ة)"}]
[7,{"$f":"Decodage!B8","v":"boultiah"},{"$f":"Decodage!C8","v":"salima"},{"$f":"Decodage!D8","v":0},{"$f":"Decodage!E8","v":0},{"$f":"Decodage!F8","v":0},{"$f":"Decodage!H8","v":3.125},{"$f":"Decodage!J8","v":8.875},{"$f":"Decodage!K8","v":7.4375},{"$f":"Decodage!N8","v":"راسب(ة)"}]
[8,{"$f":"Decodage!B9","v":"djemmal"},{"$f":"Decodage!C9","v":"hamza oulid"},{"$f":"Decodage!D9","v":0},{"$f":"Decodage!E9","v":0},{"$f":"Decodage!F9","v":0},{"$f":"Decodage!H9","v":2.375},{"$f":"Decodage!J9","v":8.75},{"$f":"Decodage!K9","v":7.15625},{"$f":"Decodage!N9","v":"راسب(ة)"}]
[9,{"$f":"Decodage!B10","v":"TLALES"},{"$f":"Decodage!C10","v":"Azouz"},{"$f":"Decodage!D10","v":0},{"$f":"Decodage!E10","v":0},{"$f":"Decodage!F10","v":0},{"$f":"Decodage!H10","v":2.75},{"$f":"Decodage!J10","v":8.5},{"$f":"Decodage!K10","v":7.0625},{"$f":"Decodage!N10","v":"راسب(ة)"}]
[10,{"$f":"Decodage!B11","v":"Djaroun"},{"$f":"Decodage!C11","v":"Sorya"},{"$f":"Decodage!D11","v":0},{"$f":"Decodage!E11","v":0},{"$f":"Decodage!F11","v":0},{"$f":"Decodage!H11","v":5.625},{"$f":"Decodage!J11","v":7.25},{"$f":"Decodage!K11","v":6.84375},{"$f":"Decodage!N11","v":"راسب(ة)"}]
[11,{"$f":"Decodage!B12","v":"bouzidi"},{"$f":"Decodage!C12","v":"abdelwahab"},{"$f":"Decodage!D12","v":0},{"$f":"Decodage!E12","v":0},{"$f":"Decodage!F12","v":0},{"$f":"Decodage!H12","v":2},{"$f":"Decodage!J12","v":8},{"$f":"Decodage!K12","v":6.5},{"$f":"Decodage!N12","v":"راسب(ة)"}]
[12,{"$f":"Decodage!B13","v":"Guidoum"},{"$f":"Decodage!C13","v":"Aicha"},{"$f":"Decodage!D13","v":0},{"$f":"Decodage!E13","v":0},{"$f":"Decodage!F13","v":0},{"$f":"Decodage!H13","v":2},{"$f":"Decodage!J13","v":8},{"$f":"Decodage!K13","v":6.5},{"$f":"Decodage!N13","v":"راسب(ة)"}]
[13,{"$f":"Decodage!B14","v":"ABIDI"},{"$f":"Decodage!C14","v":"IBTISSEM"},{"$f":"Decodage!D14","v":0},{"$f":"Decodage!E14","v":0},{"$f":"Decodage!F14","v":0},{"$f":"Decodage!H14","v":8.5},{"$f":"Decodage!J14","v":5.625},{"$f":"Decodage!K14","v":6.34375},{"$f":"Decodage!N14","v":"راسب(ة)"}]
[14,{"$f":"Decodage!B15","v":"DERRADJI"},{"$f":"Decodage!C15","v":"AMEL NOUR EL HOUDA"},{"$f":"Decodage!D15","v":0},{"$f":"Decodage!E15","v":0},{"$f":"Decodage!F15","v":0},{"$f":"Decodage!H15","v":2},{"$f":"Decodage!J15","v":7.5},{"$f":"Decodage!K15","v":6.125},{"$f":"Decodage!N15","v":"راسب(ة)"}]
[15,{"$f":"Decodage!B16","v":"Sadoun"},{"$f":"Decodage!C16","v":"Moussa"},{"$f":"Decodage!D16","v":0},{"$f":"Decodage!E16","v":0},{"$f":"Decodage!F16","v":0},{"$f":"Decodage!H16","v":2.75},{"$f":"Decodage!J16","v":7.25},{"$f":"Decodage!K16","v":6.125},{"$f":"Decodage!N16","v":"راسب(ة)"}]
[16,{"$f":"Decodage!B17","v":"guerziz"},{"$f":"Decodage!C17","v":"meriem"},{"$f":"Decodage!D17","v":0},{"$f":"Decodage!E17","v":0},{"$f":"Decodage!F17","v":0},{"$f":"Decodage!H17","v":7.875},{"$f":"Decodage!J17","v":5.375},{"$f":"Decodage!K17","v":6},{"$f":"Decodage!N17","v":"راسب(ة)"}]
[17,{"$f":"Decodage!B18","v":"ARIOUA"},{"$f":"Decodage!C18","v":"MOHAMED"},{"$f":"Decodage!D18","v":0},{"$f":"Decodage!E18","v":0},{"$f":"Decodage!F18","v":0},{"$f":"Decodage!H18","v":2.125},{"$f":"Decodage!J18","v":7},{"$f":"Decodage!K18","v":5.78125},{"$f":"Decodage!N18","v":"راسب(ة)"}]
[18,{"$f":"Decodage!B19","v":"TALEB"},{"$f":"Decodage!C19","v":"ISSAM"},{"$f":"Decodage!D19","v":0},{"$f":"Decodage!E19","v":0},{"$f":"Decodage!F19","v":0},{"$f":"Decodage!H19","v":2.375},{"$f":"Decodage!J19","v":6.75},{"$f":"Decodage!K19","v":5.65625},{"$f":"Decodage!N19","v":"راسب(ة)"}]
[19,{"$f":"Decodage!B20","v":"LITIM"},{"$f":"Decodage!C20","v":"IKRAM"},{"$f":"Decodage!D20","v":0},{"$f":"Decodage!E20","v":0},{"$f":"Decodage!F20","v":0},{"$f":"Decodage!H20","v":2.25},{"$f":"Decodage!J20","v":6.75},{"$f":"Decodage!K20","v":5.625},{"$f":"Decodage!N20","v":"راسب(ة)"}]
[20,{"$f":"Decodage!B21","v":"bouchouk"},{"$f":"Decodage!C21","v":"noura"},{"$f":"Decodage!D21","v":0},{"$f":"Decodage!E21","v":0},{"$f":"Decodage!F21","v":0},{"$f":"Decodage!H21","v":2},{"$f":"Decodage!J21","v":6.5},{"$f":"Decodage!K21","v":5.375},{"$f":"Decodage!N21","v":"راسب(ة)"}]
[21,{"$f":"Decodage!B22","v":"guemida"},{"$f":"Decodage!C22","v":"assia"},{"$f":"Decodage!D22","v":0},{"$f":"Decodage!E22","v":0},{"$f":"Decodage!F22","v":0},{"$f":"Decodage!H22","v":1.75},{"$f":"Decodage!J22","v":6.5},{"$f":"Decodage!K22","v":5.3125},{"$f":"Decodage!N22","v":"راسب(ة)"}]
[22,{"$f":"Decodage!B23","v":"guerfi"},{"$f":"Decodage!C23","v":"ilyes"},{"$f":"Decodage!D23","v":0},{"$f":"Decodage!E23","v":0},{"$f":"Decodage!F23","v":0},{"$f":"Decodage!H23","v":4},{"$f":"Decodage!J23","v":5.75},{"$f":"Decodage!K23","v":5.3125},{"$f":"Decodage!N23","v":"راسب(ة)"}]
[23,{"$f":"Decodage!B24","v":"meddour"},{"$f":"Decodage!C24","v":"imen"},{"$f":"Decodage!D24","v":0},{"$f":"Decodage!E24","v":0},{"$f":"Decodage!F24","v":0},{"$f":"Decodage!H24","v":4},{"$f":"Decodage!J24","v":5.625},{"$f":"Decodage!K24","v":5.21875},{"$f":"Decodage!N24","v":"راسب(ة)"}]
[24,{"$f":"Decodage!B25","v":"YAHIAOUI"},{"$f":"Decodage!C25","v":"Asma"},{"$f":"Decodage!D25","v":0},{"$f":"Decodage!E25","v":0},{"$f":"Decodage!F25","v":0},{"$f":"Decodage!H25","v":2.5},{"$f":"Decodage!J25","v":6},{"$f":"Decodage!K25","v":5.125},{"$f":"Decodage!N25","v":"راسب(ة)"}]
[25,{"$f":"Decodage!B26","v":"bouaziz "},{"$f":"Decodage!C26","v":"mouldia  "},{"$f":"Decodage!D26","v":0},{"$f":"Decodage!E26","v":0},{"$f":"Decodage!F26","v":0},{"$f":"Decodage!H26","v":3.75},{"$f":"Decodage!J26","v":5.25},{"$f":"Decodage!K26","v":4.875},{"$f":"Decodage!N26","v":"راسب(ة)"}]
[26,{"$f":"Decodage!B27","v":"bassaid"},{"$f":"Decodage!C27","v":"hafied"},{"$f":"Decodage!D27","v":0},{"$f":"Decodage!E27","v":0},{"$f":"Decodage!F27","v":0},{"$f":"Decodage!H27","v":2},{"$f":"Decodage!J27","v":5.5},{"$f":"Decodage!K27","v":4.625},{"$f":"Decodage!N27","v":"راسب(ة)"}]
[27,{"$f":"Decodage!B28","v":"AROUL"},{"$f":"Decodage!C28","v":"Turkia"},{"$f":"Decodage!D28","v":0},{"$f":"Decodage!E28","v":0},{"$f":"Decodage!F28","v":0},{"$f":"Decodage!H28","v":0.625},{"$f":"Decodage!J28","v":5.625},{"$f":"Decodage!K28","v":4.375},{"$f":"Decodage!N28","v":"راسب(ة)"}]
[28,{"$f":"Decodage!B29","v":"saadi"},{"$f":"Decodage!C29","v":"kenza"},{"$f":"Decodage!D29","v":0},{"$f":"Decodage!E29","v":0},{"$f":"Decodage!F29","v":0},{"$f":"Decodage!H29","v":3.75},{"$f":"Decodage!J29","v":4.5},{"$f":"Decodage!K29","v":4.3125},{"$f":"Decodage!N29","v":"راسب(ة)"}]
[29,{"$f":"Decodage!B30","v":"Bellakh"},{"$f":"Decodage!C30","v":"Sihem"},{"$f":"Decodage!D30","v":0},{"$f":"Decodage!E30","v":0},{"$f":"Decodage!F30","v":0},{"$f":"Decodage!H30","v":1.75},{"$f":"Decodage!J30","v":5.125},{"$f":"Decodage!K30","v":4.28125},{"$f":"Decodage!N30","v":"راسب(ة)"}]
[30,{"$f":"Decodage!B31","v":"zeyneb"},{"$f":"Decodage!C31","v":"tamrabet"},{"$f":"Decodage!D31","v":0},{"$f":"Decodage!E31","v":0},{"$f":"Decodage!F31","v":0},{"$f":"Decodage!H31","v":1.875},{"$f":"Decodage!J31","v":4.875},{"$f":"Decodage!K31","v":4.125},{"$f":"Decodage!N31","v":"راسب(ة)"}]
[31,{"$f":"Decodage!B32","v":"kebab"},{"$f":"Decodage!C32","v":"ghania"},{"$f":"Decodage!D32","v":0},{"$f":"Decodage!E32","v":0},{"$f":"Decodage!F32","v":0},{"$f":"Decodage!H32","v":1.5},{"$f":"Decodage!J32","v":4.875},{"$f":"Decodage!K32","v":4.03125},{"$f":"Decodage!N32","v":"راسب(ة)"}]
[32,{"$f":"Decodage!B33","v":"maalem"},{"$f":"Decodage!C33","v":"abir"},{"$f":"Decodage!D33","v":0},{"$f":"Decodage!E33","v":0},{"$f":"Decodage!F33","v":0},{"$f":"Decodage!H33","v":1.25},{"$f":"Decodage!J33","v":4.75},{"$f":"Decodage!K33","v":3.875},{"$f":"Decodage!N33","v":"راسب(ة)"}]
[33,{"$f":"Decodage!B34","v":"djelal"},{"$f":"Decodage!C34","v":"lamis"},{"$f":"Decodage!D34","v":0},{"$f":"Decodage!E34","v":0},{"$f":"Decodage!F34","v":0},{"$f":"Decodage!H34","v":3.75},{"$f":"Decodage!J34","v":3.75},{"$f":"Decodage!K34","v":3.75},{"$f":"Decodage!N34","v":"راسب(ة)"}]
[34,{"$f":"Decodage!B35","v":"DERDOUBA"},{"$f":"Decodage!C35","v":"ABDELHAK"},{"$f":"Decodage!D35","v":0},{"$f":"Decodage!E35","v":0},{"$f":"Decodage!F35","v":0},{"$f":"Decodage!H35","v":2.625},{"$f":"Decodage!J35","v":3.75},{"$f":"Decodage!K35","v":3.46875},{"$f":"Decodage!N35","v":"راسب(ة)"}]
[35,{"$f":"Decodage!B36","v":"bouradi"},{"$f":"Decodage!C36","v":"maroua"},{"$f":"Decodage!D36","v":0},{"$f":"Decodage!E36","v":0},{"$f":"Decodage!F36","v":0},{"$f":"Decodage!H36","v":1.875},{"$f":"Decodage!J36","v":3.75},{"$f":"Decodage!K36","v":3.28125},{"$f":"Decodage!N36","v":"راسب(ة)"}]
[36,{"$f":"Decodage!B37","v":"ATHAMNIA"},{"$f":"Decodage!C37","v":"Abd El Azize"},{"$f":"Decodage!D37","v":0},{"$f":"Decodage!E37","v":0},{"$f":"Decodage!F37","v":0},{"$f":"Decodage!H37","v":2.5},{"$f":"Decodage!J37","v":3},{"$f":"Decodage!K37","v":2.875},{"$f":"Decodage!N37","v":"راسب(ة)"}]
[37,{"$f":"Decodage!B38","v":"BEKIRI"},{"$f":"Decodage!C38","v":"HADJER"},{"$f":"Decodage!D38","v":0},{"$f":"Decodage!E38","v":0},{"$f":"Decodage!F38","v":0},{"$f":"Decodage!H38","v":3},{"$f":"Decodage!J38","v":2.625},{"$f":"Decodage!K38","v":2.71875},{"$f":"Decodage!N38","v":"راسب(ة)"}]
[38,{"$f":"Decodage!B39","v":"BENABBES"},{"$f":"Decodage!C39","v":"RAYENE"},{"$f":"Decodage!D39","v":0},{"$f":"Decodage!E39","v":0},{"$f":"Decodage!F39","v":0},{"$f":"Decodage!H39","v":1.125},{"$f":"Decodage!J39","v":3.125},{"$f":"Decodage!K39","v":2.625},{"$f":"Decodage!N39","v":"راسب(ة)"}]
[39,{"$f":"Decodage!B40","v":"BOUDJELAL"},{"$f":"Decodage!C40","v":"MOUNA"},{"$f":"Decodage!D40","v":0},{"$f":"Decodage!E40","v":0},{"$f":"Decodage!F40","v":0},{"$f":"Decodage!H40","v":1.5},{"$f":"Decodage!J40","v":3},{"$f":"Decodage!K40","v":2.625},{"$f":"Decodage!N40","v":"راسب(ة)"}]
[40,{"$f":"Decodage!B41","v":"kharfallah cherif"},{"$f":"Decodage!C41","v":"naima"},{"$f":"Decodage!D41","v":0},{"$f":"Decodage!E41","v":0},{"$f":"Decodage!F41","v":0},{"$f":"Decodage!H41","v":1.5},{"$f":"Decodage!J41","v":3},{"$f":"Decodage!K41","v":2.625},{"$f":"Decodage!N41","v":"راسب(ة)"}]
[41,{"$f":"Decodage!B42","v":"bedda"},{"$f":"Decodage!C42","v":"rokn eddine"},{"$f":"Decodage!D42","v":0},{"$f":"Decodage!E42","v":0},{"$f":"Decodage!F42","v":0},{"$f":"Decodage!H42","v":2},{"$f":"Decodage!J42","v":2.625},{"$f":"Decodage!K42","v":2.46875},{"$f":"Decodage!N42","v":"راسب(ة)"}]
[42,{"$f":"Decodage!B43","v":"BOUTAMAMINE "},{"$f":"Decodage!C43","v":"MEBARKA"},{"$f":"Decodage!D43","v":0},{"$f":"Decodage!E43","v":0},{"$f":"Decodage!F43","v":0},{"$f":"Decodage!H43","v":1.25},{"$f":"Decodage!J43","v":2.25},{"$f":"Decodage!K43","v":2},{"$f":"Decodage!N43","v":"راسب(ة)"}]
[43,{"$f":"Decodage!B44","v":"touatit"},{"$f":"Decodage!C44","v":"nesma"},{"$f":"Decodage!D44","v":0},{"$f":"Decodage!E44","v":0},{"$f":"Decodage!F44","v":0},{"$f":"Decodage!H44","v":0.5},{"$f":"Decodage!J44","v":1.25},{"$f":"Decodage!K44","v":1.0625},{"$f":"Decodage!N44","v":"راسب(ة)"}]
[44,{"$f":"Decodage!B45","v":"adjmi"},{"$f":"Decodage!C45","v":"zineb"},{"$f":"Decodage!D45","v":0},{"$f":"Decodage!E45","v":0},{"$f":"Decodage!F45","v":0},{"$f":"Decodage!H45","v":"غ"},{"$f":"Decodage!J45","v":"غ"},{"$f":"Decodage!K45","v":"غ"},{"$f":"Decodage!N45","v":"راسب(ة)"}]
[45,{"$f":"Decodage!B46","v":"ARAB"},{"$f":"Decodage!C46","v":"Amira"},{"$f":"Decodage!D46","v":0},{"$f":"Decodage!E46","v":0},{"$f":"Decodage!F46","v":0},{"$f":"Decodage!H46","v":"غ"},{"$f":"Decodage!J46","v":"غ"},{"$f":"Decodage!K46","v":"غ"},{"$f":"Decodage!N46","v":"راسب(ة)"}]
[46,{"$f":"Decodage!B47","v":"ATTALLAH"},{"$f":"Decodage!C47","v":"YAKOUB"},{"$f":"Decodage!D47","v":0},{"$f":"Decodage!E47","v":0},{"$f":"Decodage!F47","v":0},{"$f":"Decodage!H47","v":"غ"},{"$f":"Decodage!J47","v":"غ"},{"$f":"Decodage!K47","v":"غ"},{"$f":"Decodage!N47","v":"راسب(ة)"}]
[47,{"$f":"Decodage!B48","v":"Bech"},{"$f":"Decodage!C48","v":"Abderrahmane"},{"$f":"Decodage!D48","v":0},{"$f":"Decodage!E48","v":0},{"$f":"Decodage!F48","v":0},{"$f":"Decodage!H48","v":"غ"},{"$f":"Decodage!J48","v":"غ"},{"$f":"Decodage!K48","v":"غ"},{"$f":"Decodage!N48","v":"راسب(ة)"}]
[48,{"$f":"Decodage!B49","v":"Belkacemi"},{"$f":"Decodage!C49","v":"Mounira"},{"$f":"Decodage!D49","v":0},{"$f":"Decodage!E49","v":0},{"$f":"Decodage!F49","v":0},{"$f":"Decodage!H49","v":"غ"},{"$f":"Decodage!J49","v":"غ"},{"$f":"Decodage!K49","v":"غ"},{"$f":"Decodage!N49","v":"راسب(ة)"}]
[49,{"$f":"Decodage!B50","v":"belkhiri"},{"$f":"Decodage!C50","v":"aida"},{"$f":"Decodage!D50","v":0},{"$f":"Decodage!E50","v":0},{"$f":"Decodage!F50","v":0},{"$f":"Decodage!H50","v":"غ"},{"$f":"Decodage!J50","v":"غ"},{"$f":"Decodage!K50","v":"غ"},{"$f":"Decodage!N50","v":"راسب(ة)"}]
[50,{"$f":"Decodage!B51","v":"belloum"},{"$f":"Decodage!C51","v":"imene"},{"$f":"Decodage!D51","v":0},{"$f":"Decodage!E51","v":0},{"$f":"Decodage!F51","v":0},{"$f":"Decodage!H51","v":"غ"},{"$f":"Decodage!J51","v":"غ"},{"$f":"Decodage!K51","v":"غ"},{"$f":"Decodage!N51","v":"راسب(ة)"}]
[51,{"$f":"Decodage!B52","v":"Belloum"},{"$f":"Decodage!C52","v":"Nadir"},{"$f":"Decodage!D52","v":0},{"$f":"Decodage!E52","v":0},{"$f":"Decodage!F52","v":0},{"$f":"Decodage!H52","v":"غ"},{"$f":"Decodage!J52","v":"غ"},{"$f":"Decodage!K52","v":"غ"},{"$f":"Decodage!N52","v":"راسب(ة)"}]
[52,{"$f":"Decodage!B53","v":"BENKORICHI"},{"$f":"Decodage!C53","v":"ZAKARIA"},{"$f":"Decodage!D53","v":0},{"$f":"Decodage!E53","v":0},{"$f":"Decodage!F53","v":0},{"$f":"Decodage!H53","v":"غ"},{"$f":"Decodage!J53","v":"غ"},{"$f":"Decodage!K53","v":"غ"},{"$f":"Decodage!N53","v":"راسب(ة)"}]
[53,{"$f":"Decodage!B54","v":"BENTALLAH"},{"$f":"Decodage!C54","v":"Athmane"},{"$f":"Decodage!D54","v":0},{"$f":"Decodage!E54","v":0},{"$f":"Decodage!F54","v":0},{"$f":"Decodage!H54","v":"غ"},{"$f":"Decodage!J54","v":"غ"},{"$f":"Decodage!K54","v":"غ"},{"$f":"Decodage!N54","v":"راسب(ة)"}]
[54,{"$f":"Decodage!B55","v":"Boubaya"},{"$f":"Decodage!C55","v":"Nassira"},{"$f":"Decodage!D55","v":0},{"$f":"Decodage!E55","v":0},{"$f":"Decodage!F55","v":0},{"$f":"Decodage!H55","v":"غ"},{"$f":"Decodage!J55","v":"غ"},{"$f":"Decodage!K55","v":"غ"},{"$f":"Decodage!N55","v":"راسب(ة)"}]
[55,{"$f":"Decodage!B56","v":"bouchama"},{"$f":"Decodage!C56","v":"sadek"},{"$f":"Decodage!D56","v":0},{"$f":"Decodage!E56","v":0},{"$f":"Decodage!F56","v":0},{"$f":"Decodage!H56","v":"غ"},{"$f":"Decodage!J56","v":"غ"},{"$f":"Decodage!K56","v":"غ"},{"$f":"Decodage!N56","v":"راسب(ة)"}]
[56,{"$f":"Decodage!B57","v":"BOUZEKRI"},{"$f":"Decodage!C57","v":"SADEK"},{"$f":"Decodage!D57","v":0},{"$f":"Decodage!E57","v":0},{"$f":"Decodage!F57","v":0},{"$f":"Decodage!H57","v":"غ"},{"$f":"Decodage!J57","v":"غ"},{"$f":"Decodage!K57","v":"غ"},{"$f":"Decodage!N57","v":"راسب(ة)"}]
[57,{"$f":"Decodage!B58","v":"CHABANI"},{"$f":"Decodage!C58","v":"MEHDI"},{"$f":"Decodage!D58","v":0},{"$f":"Decodage!E58","v":0},{"$f":"Decodage!F58","v":0},{"$f":"Decodage!H58","v":"غ"},{"$f":"Decodage!J58","v":"غ"},{"$f":"Decodage!K58","v":"غ"},{"$f":"Decodage!N58","v":"راسب(ة)"}]
[58,{"$f":"Decodage!B59","v":"chebili"},{"$f":"Decodage!C59","v":"khalissa"},{"$f":"Decodage!D59","v":0},{"$f":"Decodage!E59","v":0},{"$f":"Decodage!F59","v":0},{"$f":"Decodage!H59","v":"غ"},{"$f":"Decodage!J59","v":"غ"},{"$f":"Decodage!K59","v":"غ"},{"$f":"Decodage!N59","v":"راسب(ة)"}]
[59,{"$f":"Decodage!B60","v":"chekhab"},{"$f":"Decodage!C60","v":"sara"},{"$f":"Decodage!D60","v":0},{"$f":"Decodage!E60","v":0},{"$f":"Decodage!F60","v":0},{"$f":"Decodage!H60","v":1.75},"ورقة ملغاة",{"$f":"Decodage!K60","v":"غ"},{"$f":"Decodage!N60","v":"راسب(ة)"}]
[60,{"$f":"Decodage!B61","v":"cheriti"},{"$f":"Decodage!C61","v":"ines lilia"},{"$f":"Decodage!D61","v":0},{"$f":"Decodage!E61","v":0},{"$f":"Decodage!F61","v":0},{"$f":"Decodage!H61","v":"غ"},{"$f":"Decodage!J61","v":"غ"},{"$f":"Decodage!K61","v":"غ"},{"$f":"Decodage!N61","v":"راسب(ة)"}]
[61,{"$f":"Decodage!B62","v":"DJEBAILI"},{"$f":"Decodage!C62","v":"Nadhira"},{"$f":"Decodage!D62","v":0},{"$f":"Decodage!E62","v":0},{"$f":"Decodage!F62","v":0},{"$f":"Decodage!H62","v":"غ"},{"$f":"Decodage!J62","v":"غ"},{"$f":"Decodage!K62","v":"غ"},{"$f":"Decodage!N62","v":"راسب(ة)"}]
[62,{"$f":"Decodage!B63","v":"djefaflia"},{"$f":"Decodage!C63","v":"roumaissa"},{"$f":"Decodage!D63","v":0},{"$f":"Decodage!E63","v":0},{"$f":"Decodage!F63","v":0},{"$f":"Decodage!H63","v":"غ"},{"$f":"Decodage!J63","v":"غ"},{"$f":"Decodage!K63","v":"غ"},{"$f":"Decodage!N63","v":"راسب(ة)"}]
[63,{"$f":"Decodage!B64","v":"FILALI"},{"$f":"Decodage!C64","v":"HAMZA"},{"$f":"Decodage!D64","v":0},{"$f":"Decodage!E64","v":0},{"$f":"Decodage!F64","v":0},{"$f":"Decodage!H64","v":"غ"},{"$f":"Decodage!J64","v":"غ"},{"$f":"Decodage!K64","v":"غ"},{"$f":"Decodage!N64","v":"راسب(ة)"}]
[64,{"$f":"Decodage!B65","v":"GHERIB"},{"$f":"Decodage!C65","v":"HANANE"},{"$f":"Decodage!D65","v":0},{"$f":"Decodage!E65","v":0},{"$f":"Decodage!F65","v":0},{"$f":"Decodage!H65","v":"غ"},{"$f":"Decodage!J65","v":"غ"},{"$f":"Decodage!K65","v":"غ"},{"$f":"Decodage!N65","v":"راسب(ة)"}]
[65,{"$f":"Decodage!B66","v":"GRINI"},{"$f":"Decodage!C66","v":"AMEL"},{"$f":"Decodage!D66","v":0},{"$f":"Decodage!E66","v":0},{"$f":"Decodage!F66","v":0},{"$f":"Decodage!H66","v":"غ"},{"$f":"Decodage!J66","v":"غ"},{"$f":"Decodage!K66","v":"غ"},{"$f":"Decodage!N66","v":"راسب(ة)"}]
[66,{"$f":"Decodage!B67","v":"khamra"},{"$f":"Decodage!C67","v":"hocine"},{"$f":"Decodage!D67","v":0},{"$f":"Decodage!E67","v":0},{"$f":"Decodage!F67","v":0},{"$f":"Decodage!H67","v":"غ"},{"$f":"Decodage!J67","v":"غ"},{"$f":"Decodage!K67","v":"غ"},{"$f":"Decodage!N67","v":"راسب(ة)"}]
[67,{"$f":"Decodage!B68","v":"lagraa"},{"$f":"Decodage!C68","v":"nesrine"},{"$f":"Decodage!D68","v":0},{"$f":"Decodage!E68","v":0},{"$f":"Decodage!F68","v":0},{"$f":"Decodage!H68","v":"غ"},{"$f":"Decodage!J68","v":"غ"},{"$f":"Decodage!K68","v":"غ"},{"$f":"Decodage!N68","v":"راسب(ة)"}]
[68,{"$f":"Decodage!B69","v":"Lahmadi"},{"$f":"Decodage!C69","v":"Akram"},{"$f":"Decodage!D69","v":0},{"$f":"Decodage!E69","v":0},{"$f":"Decodage!F69","v":0},{"$f":"Decodage!H69","v":"غ"},{"$f":"Decodage!J69","v":"غ"},{"$f":"Decodage!K69","v":"غ"},{"$f":"Decodage!N69","v":"راسب(ة)"}]
[69,{"$f":"Decodage!B70","v":"LATTOUI"},{"$f":"Decodage!C70","v":"Hakim"},{"$f":"Decodage!D70","v":0},{"$f":"Decodage!E70","v":0},{"$f":"Decodage!F70","v":0},{"$f":"Decodage!H70","v":"غ"},{"$f":"Decodage!J70","v":"غ"},{"$f":"Decodage!K70","v":"غ"},{"$f":"Decodage!N70","v":"راسب(ة)"}]
[70,{"$f":"Decodage!B71","v":"MAALLA"},{"$f":"Decodage!C71","v":"HANANE"},{"$f":"Decodage!D71","v":0},{"$f":"Decodage!E71","v":0},{"$f":"Decodage!F71","v":0},{"$f":"Decodage!H71","v":"غ"},{"$f":"Decodage!J71","v":"غ"},{"$f":"Decodage!K71","v":"غ"},{"$f":"Decodage!N71","v":"راسب(ة)"}]
[71,{"$f":"Decodage!B72","v":"mahdid"},{"$f":"Decodage!C72","v":"aziez"},{"$f":"Decodage!D72","v":0},{"$f":"Decodage!E72","v":0},{"$f":"Decodage!F72","v":0},{"$f":"Decodage!H72","v":"غ"},{"$f":"Decodage!J72","v":"غ"},{"$f":"Decodage!K72","v":"غ"},{"$f":"Decodage!N72","v":"راسب(ة)"}]
[72,{"$f":"Decodage!B73","v":"Mahmel"},{"$f":"Decodage!C73","v":"Hassiba"},{"$f":"Decodage!D73","v":0},{"$f":"Decodage!E73","v":0},{"$f":"Decodage!F73","v":0},{"$f":"Decodage!H73","v":"غ"},{"$f":"Decodage!J73","v":"غ"},{"$f":"Decodage!K73","v":"غ"},{"$f":"Decodage!N73","v":"راسب(ة)"}]
[73,{"$f":"Decodage!B74","v":"MELIZI"},{"$f":"Decodage!C74","v":"HASNA"},{"$f":"Decodage!D74","v":0},{"$f":"Decodage!E74","v":0},{"$f":"Decodage!F74","v":0},{"$f":"Decodage!H74","v":"غ"},{"$f":"Decodage!J74","v":"غ"},{"$f":"Decodage!K74","v":"غ"},{"$f":"Decodage!N74","v":"راسب(ة)"}]
[74,{"$f":"Decodage!B75","v":"mestour"},{"$f":"Decodage!C75","v":"nadjet"},{"$f":"Decodage!D75","v":0},{"$f":"Decodage!E75","v":0},{"$f":"Decodage!F75","v":0},{"$f":"Decodage!H75","v":"غ"},{"$f":"Decodage!J75","v":"غ"},{"$f":"Decodage!K75","v":"غ"},{"$f":"Decodage!N75","v":"راسب(ة)"}]
[75,{"$f":"Decodage!B76","v":"midoune"},{"$f":"Decodage!C76","v":"nihad"},{"$f":"Decodage!D76","v":0},{"$f":"Decodage!E76","v":0},{"$f":"Decodage!F76","v":0},{"$f":"Decodage!H76","v":"غ"},{"$f":"Decodage!J76","v":"غ"},{"$f":"Decodage!K76","v":"غ"},{"$f":"Decodage!N76","v":"راسب(ة)"}]
[76,{"$f":"Decodage!B77","v":"OMRANE"},{"$f":"Decodage!C77","v":"SOUMIA"},{"$f":"Decodage!D77","v":0},{"$f":"Decodage!E77","v":0},{"$f":"Decodage!F77","v":0},{"$f":"Decodage!H77","v":"غ"},{"$f":"Decodage!J77","v":"غ"},{"$f":"Decodage!K77","v":"غ"},{"$f":"Decodage!N77","v":"راسب(ة)"}]
[77,{"$f":"Decodage!B78","v":"ounis"},{"$f":"Decodage!C78","v":"dellel"},{"$f":"Decodage!D78","v":0},{"$f":"Decodage!E78","v":0},{"$f":"Decodage!F78","v":0},{"$f":"Decodage!H78","v":"غ"},{"$f":"Decodage!J78","v":"غ"},{"$f":"Decodage!K78","v":"غ"},{"$f":"Decodage!N78","v":"راسب(ة)"}]
[78,{"$f":"Decodage!B79","v":"RAHAL"},{"$f":"Decodage!C79","v":"ISMAHAN"},{"$f":"Decodage!D79","v":0},{"$f":"Decodage!E79","v":0},{"$f":"Decodage!F79","v":0},{"$f":"Decodage!H79","v":"غ"},{"$f":"Decodage!J79","v":"غ"},{"$f":"Decodage!K79","v":"غ"},{"$f":"Decodage!N79","v":"راسب(ة)"}]
[79,{"$f":"Decodage!B80","v":"RAHIM"},{"$f":"Decodage!C80","v":"Imene"},{"$f":"Decodage!D80","v":0},{"$f":"Decodage!E80","v":0},{"$f":"Decodage!F80","v":0},{"$f":"Decodage!H80","v":"غ"},{"$f":"Decodage!J80","v":"غ"},{"$f":"Decodage!K80","v":"غ"},{"$f":"Decodage!N80","v":"راسب(ة)"}]
[80,{"$f":"Decodage!B81","v":"saoud"},{"$f":"Decodage!C81","v":"imene "},{"$f":"Decodage!D81","v":0},{"$f":"Decodage!E81","v":0},{"$f":"Decodage!F81","v":0},{"$f":"Decodage!H81","v":"غ"},{"$f":"Decodage!J81","v":"غ"},{"$f":"Decodage!K81","v":"غ"},{"$f":"Decodage!N81","v":"راسب(ة)"}]
[81,{"$f":"Decodage!B82","v":"Souilah"},{"$f":"Decodage!C82","v":"Oumeima"},{"$f":"Decodage!D82","v":0},{"$f":"Decodage!E82","v":0},{"$f":"Decodage!F82","v":0},{"$f":"Decodage!H82","v":"غ"},{"$f":"Decodage!J82","v":"غ"},{"$f":"Decodage!K82","v":"غ"},{"$f":"Decodage!N82","v":"راسب(ة)"}]
[82,{"$f":"Decodage!B83","v":"TEDJANIA"},{"$f":"Decodage!C83","v":"HAMZA"},{"$f":"Decodage!D83","v":0},{"$f":"Decodage!E83","v":0},{"$f":"Decodage!F83","v":0},{"$f":"Decodage!H83","v":"غ"},{"$f":"Decodage!J83","v":"غ"},{"$f":"Decodage!K83","v":"غ"},{"$f":"Decodage!N83","v":"راسب(ة)"}]
[83,{"$f":"Decodage!B84","v":"ZENNOUR"},{"$f":"Decodage!C84","v":"Abdelaziz"},{"$f":"Decodage!D84","v":0},{"$f":"Decodage!E84","v":0},{"$f":"Decodage!F84","v":0},{"$f":"Decodage!H84","v":"غ"},{"$f":"Decodage!J84","v":"غ"},{"$f":"Decodage!K84","v":"غ"},{"$f":"Decodage!N84","v":"راسب(ة)"}]
[84,{"$f":"Decodage!B85","v":"ZIANE"},{"$f":"Decodage!C85","v":"FATEH"},{"$f":"Decodage!D85","v":0},{"$f":"Decodage!E85","v":0},{"$f":"Decodage!F85","v":0},{"$f":"Decodage!H85","v":"غ"},{"$f":"Decodage!J85","v":"غ"},{"$f":"Decodage!K85","v":"غ"},{"$f":"Decodage!N85","v":"راسب(ة)"}]
[]
[{"$f":"Tableau_de_bord!B19","v":"مقياس 1 : محاسبة مالية معمقة"}]
[{"$f":"Tableau_de_bord!B20","v":"مقياس 2 : تدقيق محاسبي"},null,null,null,null,null,"مسؤول لجنة التكوين في الدكتوراه"]
[]
[" أعضاء لجنة التكوين في الدكتوراه",null,null,"الإمضــــــــــــــاء",null,null,{"$f":"Tableau_de_bord!B3","v":"د/ فنغور عبدالسلام"}]
[{"$f":"Tableau_de_bord!B4","v":"د/ رحال علي"}]
[{"$f":"Tableau_de_bord!B5","v":"د/ يحياوي نعيمة"}]
[{"$f":"Tableau_de_bord!B6","v":"د/ عبدالصمد نجوى"}]
[{"$f":"Tableau_de_bord!B7","v":"د/ سي محمد لخضر"}]
[{"$f":"Tableau_de_bord!B11","v":"د/ بروال بومدين"}]
[{"$f":"Tableau_de_bord!B12","v":"د/ عيساني عامر"}]
[]
["رئيس اللجنة العلمية",null,null,null,null,null,"رئيس القسم "]
[{"$f":"Tableau_de_bord!B13","v":"د/ خدومة الوردي"},null,null,null,null,null,{"$f":"Tableau_de_bord!B15","v":"د/ لوشن محمد"}]
[]
[]
[]
[]
[]
[]
[]
[]
["نائب العميد المكلف بما بعد التدرج و البحث العلمي ",null,null,null,null,null,"رئيس المجلس العلمي للكلية"]
["و العلاقات الخارجية",null,null,null,null,null,{"$f":"Tableau_de_bord!B14","v":"د/ زموري مسعود"}]
[{"$f":"Tableau_de_bord!B16","v":"د/ بوعبيد ميلود"}]
[]
[]
[]
[]
[]
["عميـــــــــــــــــــد الكلية",null,null,null,null,null,"نائب مديرالجامعة للتكوين العالي في الطور الثالث  "]
[{"$f":"Tableau_de_bord!B17","v":"د/ هارون الطاهر"},null,null,null,null,null,"و التأهيل الجامعي و البحث العلمي"]
[null,null,null,null,null,null,"و التكوين العالي فيما بعد التدرج"]
[]
[]
[]
[]
[]
[]
[]
[]
[{"$f":"Tableau_de_bord!B22","v":"باتنة في02 نوفمبر2019"}]
[]
[]
[]
[]
[]
[]
[" "]

{"sheet":"parametrage","index":7,"n_rows":3,"n_cols":9,"rows_kept":3,"cut":false,"hidden":false,"merged":[]}
["NOM","Mot de passe","Parametrage","Feuil1","Tableau_de_bord","Module_1","Module_2","Decodage","Etape_2"]
[111,111,"x","x","x","x","x","x","x"]
[111,111,"x","x","x","x","x","x","x"]